BEGIN:VCALENDAR
VERSION:2.0
PRODID:-//ExhibitionMatches.com//NONSGML v1.0//EN
BEGIN:VEVENT
UID=3A913B10-9677-AC86-88D56A47CC454281
DTSTAMP=20260423T013709Z
DTSTART;VALUE=DATE:20260620
DTEND;VALUE=DATE:20260621
SUMMARY:Robertsdale Summer Slam
LOCATION:Robertsdale High School, 1 Golden Bear Drive, Robertsdale, AL, 36567
DESCRIPTION:View full event details: https://wrestlingtournaments.org/view.cfm?ID=107062

URL;VALUE=URI:https://wrestlingtournaments.org/view.cfm?ID=107062
END:VEVENT
END:VCALENDAR